Workbook

Sheet 2021_m__NVO_finansavimas
I1: Nevyriausybinėms organizacijoms skirtos lėšos savivaldybėje 2021 m. | J1: Nevyriausybinėms organizacijoms skirtos lėšos savivaldybėje 2021 m. | K1: Nevyriausybinėms organizacijoms skirtos lėšos savivaldybėje 2021 m. | L1: Nevyriausybinėms organizacijoms skirtos lėšos savivaldybėje 2021 m. | M1: Nevyriausybinėms organizacijoms skirtos lėšos savivaldybėje 2021 m. | N1: Nevyriausybinėms organizacijoms skirtos lėšos savivaldybėje 2021 m. | O1: Nevyriausybinėms organizacijoms skirtos lėšos savivaldybėje 2021 m. | P1: Nevyriausybinėms organizacijoms skirtos lėšos savivaldybėje 2021 m. | Q1: Nevyriausybinėms organizacijoms skirtos lėšos savivaldybėje 2021 m. | R1: Nevyriausybinėms organizacijoms skirtos lėšos savivaldybėje 2021 m. | S1: Nevyriausybinėms organizacijoms skirtos lėšos savivaldybėje 2021 m. | T1: Nevyriausybinėms organizacijoms skirtos lėšos savivaldybėje 2021 m. | U1: Nevyriausybinėms organizacijoms skirtos lėšos savivaldybėje 2021 m. | V1: Nevyriausybinėms organizacijoms skirtos lėšos savivaldybėje 2021 m. | W1: Nevyriausybinėms organizacijoms skirtos lėšos savivaldybėje 2021 m. | X1: Nevyriausybinėms organizacijoms skirtos lėšos savivaldybėje 2021 m. | Y1: Nevyriausybinėms organizacijoms skirtos lėšos savivaldybėje 2021 m. | Z1: Nevyriausybinėms organizacijoms skirtos lėšos savivaldybėje 2021 m. | AA1: Nevyriausybinėms organizacijoms skirtos lėšos savivaldybėje 2021 m. | AB1: Nevyriausybinėms organizacijoms skirtos lėšos savivaldybėje 2021 m. | AC1: Nevyriausybinėms organizacijoms skirtos lėšos savivaldybėje 2021 m. | AD1: Nevyriausybinėms organizacijoms skirtos lėšos savivaldybėje 2021 m. | AE1: Nevyriausybinėms organizacijoms skirtos lėšos savivaldybėje 2021 m. | AF1: Nevyriausybinėms organizacijoms skirtos lėšos savivaldybėje 2021 m. | AG1: Nevyriausybinėms organizacijoms skirtos lėšos savivaldybėje 2021 m. | AH1: Nevyriausybinėms organizacijoms skirtos lėšos savivaldybėje 2021 m. | AI1: Nevyriausybinėms organizacijoms skirtos lėšos savivaldybėje 2021 m. | AJ1: Nevyriausybinėms organizacijoms skirtos lėšos savivaldybėje 2021 m. | AK1: Nevyriausybinėms organizacijoms skirtos lėšos savivaldybėje 2021 m. | AL1: Nevyriausybinėms organizacijoms skirtos lėšos savivaldybėje 2021 m. | AM1: Nevyriausybinėms organizacijoms skirtos lėšos savivaldybėje 2021 m. | AN1: Nevyriausybinėms organizacijoms skirtos lėšos savivaldybėje 2021 m. | AO1: Nevyriausybinėms organizacijoms skirtos lėšos savivaldybėje 2021 m. | AP1: Nevyriausybinėms organizacijoms skirtos lėšos savivaldybėje 2021 m. | AQ1: Nevyriausybinėms organizacijoms skirtos lėšos savivaldybėje 2021 m. | AR1: Nevyriausybinėms organizacijoms skirtos lėšos savivaldybėje 2021 m. | AS1: Nevyriausybinėms organizacijoms skirtos lėšos savivaldybėje 2021 m. | AT1: Nevyriausybinėms organizacijoms skirtos lėšos savivaldybėje 2021 m. | AU1: Nevyriausybinėms organizacijoms skirtos lėšos savivaldybėje 2021 m. | AV1: Nevyriausybinėms organizacijoms skirtos lėšos savivaldybėje 2021 m. | AW1: Nevyriausybinėms organizacijoms skirtos lėšos savivaldybėje 2021 m. | AX1: Nevyriausybinėms organizacijoms skirtos lėšos savivaldybėje 2021 m. | AY1: Nevyriausybinėms organizacijoms skirtos lėšos savivaldybėje 2021 m. | AZ1: Nevyriausybinėms organizacijoms skirtos lėšos savivaldybėje 2021 m. | BA1: Nevyriausybinėms organizacijoms skirtos lėšos savivaldybėje 2021 m. | BB1: Nevyriausybinėms organizacijoms skirtos lėšos savivaldybėje 2021 m. | BC1: Nevyriausybinėms organizacijoms skirtos lėšos savivaldybėje 2021 m. | BD1: Nevyriausybinėms organizacijoms skirtos lėšos savivaldybėje 2021 m. | BE1: Nevyriausybinėms organizacijoms skirtos lėšos savivaldybėje 2021 m. | BF1: Nevyriausybinėms organizacijoms skirtos lėšos savivaldybėje 2021 m. | BG1: Nevyriausybinėms organizacijoms skirtos lėšos savivaldybėje 2021 m. | BH1: Nevyriausybinėms organizacijoms skirtos lėšos savivaldybėje 2021 m. | BI1: Nevyriausybinėms organizacijoms skirtos lėšos savivaldybėje 2021 m. | BJ1: Nevyriausybinėms organizacijoms skirtos lėšos savivaldybėje 2021 m. | BK1: Nevyriausybinėms organizacijoms skirtos lėšos savivaldybėje 2021 m. | BL1: Nevyriausybinėms organizacijoms skirtos lėšos savivaldybėje 2021 m. | BM1: Nevyriausybinėms organizacijoms skirtos lėšos savivaldybėje 2021 m. | BN1: Nevyriausybinėms organizacijoms skirtos lėšos savivaldybėje 2021 m. | BO1: Nevyriausybinėms organizacijoms skirtos lėšos savivaldybėje 2021 m. | BP1: Nevyriausybinėms organizacijoms skirtos lėšos savivaldybėje 2021 m.
I2: =SUBTOTAL(109,'2021_m__NVO_finansavimas'!$I$4:$I$424) -> 153042.98 | J2: =SUBTOTAL(109,'2021_m__NVO_finansavimas'!$J$4:$J$424) -> 796985 | K2: =SUBTOTAL(109,'2021_m__NVO_finansavimas'!$K$4:$K$424) -> 89365.23 | L2: =SUBTOTAL(109,'2021_m__NVO_finansavimas'!$L$4:$L$424) -> 137941 | M2: =SUBTOTAL(109,'2021_m__NVO_finansavimas'!$M$4:$M$424) -> 84698 | N2: =SUBTOTAL(109,'2021_m__NVO_finansavimas'!$N$4:$N$424) -> 119272.2 | O2: =SUBTOTAL(109,'2021_m__NVO_finansavimas'!$O$4:$O$424) -> 64800 | P2: =SUBTOTAL(109,'2021_m__NVO_finansavimas'!$P$4:$P$424) -> 240743 | Q2: =SUBTOTAL(109,'2021_m__NVO_finansavimas'!$Q$4:$Q$424) -> 85093 | R2: =SUBTOTAL(109,'2021_m__NVO_finansavimas'!$R$4:$R$424) -> 677816 | S2: =SUBTOTAL(109,'2021_m__NVO_finansavimas'!$S$4:$S$424) -> 30500 | T2: =SUBTOTAL(109,'2021_m__NVO_finansavimas'!$T$4:$T$424) -> 11500 | U2: =SUBTOTAL(109,'2021_m__NVO_finansavimas'!$U$4:$U$424) -> 87347.75 | V2: =SUBTOTAL(109,'2021_m__NVO_finansavimas'!$V$4:$V$424) -> 9091 | W2: =SUBTOTAL(109,'2021_m__NVO_finansavimas'!$W$4:$W$424) -> 11799352 | X2: =SUBTOTAL(109,'2021_m__NVO_finansavimas'!$X$4:$X$424) -> 742109.67 | Y2: =SUBTOTAL(109,'2021_m__NVO_finansavimas'!$Y$4:$Y$424) -> 46716.66 | Z2: =SUBTOTAL(109,'2021_m__NVO_finansavimas'!$Z$4:$Z$424) -> 798009.09 | AA2: =SUBTOTAL(109,'2021_m__NVO_finansavimas'!$AA$4:$AA$424) -> 30000 | AB2: =SUBTOTAL(109,'2021_m__NVO_finansavimas'!$AB$4:$AB$424) -> 3527816.5 | AC2: =SUBTOTAL(109,'2021_m__NVO_finansavimas'!$AC$4:$AC$424) -> 861834 | AD2: =SUBTOTAL(109,'2021_m__NVO_finansavimas'!$AD$4:$AD$424) -> 150000 | AE2: =SUBTOTAL(109,'2021_m__NVO_finansavimas'!$AE$4:$AE$424) -> 26800 | AF2: =SUBTOTAL(109,'2021_m__NVO_finansavimas'!$AF$4:$AF$424) -> 32957 | AG2: =SUBTOTAL(109,'2021_m__NVO_finansavimas'!$AG$4:$AG$424) -> 326892.5 | AH2: =SUBTOTAL(109,'2021_m__NVO_finansavimas'!$AH$4:$AH$424) -> 329103.06 | AI2: =SUBTOTAL(109,'2021_m__NVO_finansavimas'!$AI$4:$AI$424) -> 73500 | AJ2: =SUBTOTAL(109,'2021_m__NVO_finansavimas'!$AJ$4:$AJ$424) -> 181310 | AK2: =SUBTOTAL(109,'2021_m__NVO_finansavimas'!$AK$4:$AK$424) -> 17600 | AL2: =SUBTOTAL(109,'2021_m__NVO_finansavimas'!$AL$4:$AL$424) -> 51000 | AM2: =SUBTOTAL(109,'2021_m__NVO_finansavimas'!$AM$4:$AM$424) -> 242736 | AN2: =SUBTOTAL(109,'2021_m__NVO_finansavimas'!$AN$4:$AN$424) -> 946115 | AO2: =SUBTOTAL(109,'2021_m__NVO_finansavimas'!$AO$4:$AO$424) -> 238282.31 | AP2: =SUBTOTAL(109,'2021_m__NVO_finansavimas'!$AP$4:$AP$424) -> 58000 | AQ2: =SUBTOTAL(109,'2021_m__NVO_finansavimas'!$AQ$4:$AQ$424) -> 171500 | AR2: =SUBTOTAL(109,'2021_m__NVO_finansavimas'!$AR$4:$AR$424) -> 400080.85 | AS2: =SUBTOTAL(109,'2021_m__NVO_finansavimas'!$AS$4:$AS$424) -> 139921.65 | AT2: =SUBTOTAL(109,'2021_m__NVO_finansavimas'!$AT$4:$AT$424) -> 346455.65 | AU2: =SUBTOTAL(109,'2021_m__NVO_finansavimas'!$AU$4:$AU$424) -> 58100 | AV2: =SUBTOTAL(109,'2021_m__NVO_finansavimas'!$AV$4:$AV$424) -> 101594 | AW2: =SUBTOTAL(109,'2021_m__NVO_finansavimas'!$AW$4:$AW$424) -> 38070.37 | AX2: =SUBTOTAL(109,'2021_m__NVO_finansavimas'!$AX$4:$AX$424) -> 295578.49 | AY2: =SUBTOTAL(109,'2021_m__NVO_finansavimas'!$AY$4:$AY$424) -> 185118 | AZ2: =SUBTOTAL(109,'2021_m__NVO_finansavimas'!$AZ$4:$AZ$424) -> 30000 | BA2: =SUBTOTAL(109,'2021_m__NVO_finansavimas'!$BA$4:$BA$424) -> 2650 | BB2: =SUBTOTAL(109,'2021_m__NVO_finansavimas'!$BB$4:$BB$424) -> 56775 | BC2: =SUBTOTAL(109,'2021_m__NVO_finansavimas'!$BC$4:$BC$424) -> 148632 | BD2: =SUBTOTAL(109,'2021_m__NVO_finansavimas'!$BD$4:$BD$424) -> 27400 | BE2: =SUBTOTAL(109,'2021_m__NVO_finansavimas'!$BE$4:$BE$424) -> 103949.33 | BF2: =SUBTOTAL(109,'2021_m__NVO_finansavimas'!$BF$4:$BF$424) -> 737169 | BG2: =SUBTOTAL(109,'2021_m__NVO_finansavimas'!$BG$4:$BG$424) -> 63135 | BH2: =SUBTOTAL(109,'2021_m__NVO_finansavimas'!$BH$4:$BH$424) -> 26730 | BI2: =SUBTOTAL(109,'2021_m__NVO_finansavimas'!$BI$4:$BI$424) -> 883774.3 | BJ2: =SUBTOTAL(109,'2021_m__NVO_finansavimas'!$BJ$4:$BJ$424) -> 189263 | BK2: =SUBTOTAL(109,'2021_m__NVO_finansavimas'!$BK$4:$BK$424) -> 15000 | BL2: =SUBTOTAL(109,'2021_m__NVO_finansavimas'!$BL$4:$BL$424) -> 136194 | BM2: =SUBTOTAL(109,'2021_m__NVO_finansavimas'!$BM$4:$BM$424) -> 8404551 | BN2: =SUBTOTAL(109,'2021_m__NVO_finansavimas'!$BN$4:$BN$424) -> 19806.23 | BO2: =SUBTOTAL(109,'2021_m__NVO_finansavimas'!$BO$4:$BO$424) -> 60416 | BP2: =SUBTOTAL(109,'2021_m__NVO_finansavimas'!$BP$4:$BP$424) -> 181125.1
A3: Eil. nr. | B3: Institucija ar įstaiga, finansuojanti nevyriausybinių organizacijų veiklą | C3: Konkurso, kuriuo skirtas finansavimas nevyriausybinėms organizacijoms 2021 m., pavadinimas | D3: Nevyriausybinėms organizacijom skirtos lėšos 2021 m., Eur | E3: Pastabos dėl NVO skirtų lėšų 2021 m. | F3: Nevyriausybinių organizacijų, kurioms buvo skirtas finansavimas 2021 m., skaičius | G3: Projektų, kuriems buvo skirtas finansavimas 2021 m., skaičius | H3: Kontaktinis asmuo atsakingas už priemonę (vardas, pavardė, el. pašto adresas ir telefono nr.) | I3: Akmenės rajono savivaldybės administracija | J3: Alytaus miesto savivaldybės administracija | K3: Alytaus rajono savivaldybės administracija | L3: Anykščių rajono savivaldybės administracija | M3: Birštono savivaldybės administracija | N3: Biržų rajono savivaldybės administracija | O3: Druskininkų savivaldybės administracija | P3: Elektrėnų savivaldybės administracija | Q3: Ignalinos rajono savivaldybės administracija | R3: Jonavos rajono savivaldybės administracija | S3: Joniškio rajono savivaldybės administracija | T3: Jurbarko rajono savivaldybės administracija | U3: Kaišiadorių rajono savivaldybės administracija | V3: Kalvarijos savivaldybės administracija | W3: Kauno miesto savivaldybės administracija | X3: Kauno rajono savivaldybės administracija | Y3: Kazlų Rūdos savivaldybės administracija | Z3: Kėdainių rajono savivaldybės administracija | AA3: Kelmės rajono savivaldybės administracija | AB3: Klaipėdos miesto savivaldybės administracija | AC3: Klaipėdos rajono savivaldybės administracija | AD3: Kretingos rajono savivaldybės administracija | AE3: Kupiškio rajono savivaldybės administracija | AF3: Lazdijų rajono savivaldybės administracija | AG3: Marijampolės savivaldybės administracija | AH3: Mažeikių rajono savivaldybės administracija | AI3: Molėtų rajono savivaldybės administracija | AJ3: Neringos savivaldybės administracija | AK3: Pagėgių savivaldybės administracija | AL3: Pakruojo rajono savivaldybės administracija | AM3: Palangos miesto savivaldybės administracija | AN3: Panevėžio miesto savivaldybės administracija | AO3: Panevėžio rajono savivaldybės administracija | AP3: Pasvalio rajono savivaldybės administracija | AQ3: Plungės rajono savivaldybės administracija | AR3: Prienų rajono savivaldybės administracija | AS3: Radviliškio rajono savivaldybės administracija | AT3: Raseinių rajono savivaldybės administracija | AU3: Rietavo savivaldybės administracija | AV3: Rokiškio rajono savivaldybės administracija | AW3: Skuodo rajono savivaldybės administracija | AX3: Šakių rajono savivaldybės administracija | AY3: Šalčininkų rajono savivaldybės administracija | AZ3: Šiaulių miesto savivaldybės administracija | BA3: Šiaulių rajono savivaldybės administracija | BB3: Šilalės rajono savivaldybės administracija | BC3: Šilutės rajono savivaldybės administracija | BD3: Širvintų rajono savivaldybės administracija | BE3: Švenčionių rajono savivaldybės administracija | BF3: Tauragės rajono savivaldybės administracija | BG3: Telšių rajono savivaldybės administracija | BH3: Trakų rajono savivaldybės administracija | BI3: Ukmergės rajono savivaldybės administracija | BJ3: Utenos rajono savivaldybės administracija | BK3: Varėnos rajono savivaldybės administracija | BL3: Vilkaviškio rajono savivaldybės administracija | BM3: Vilniaus miesto savivaldybės administracija | BN3: Vilniaus rajono savivaldybės administracija | BO3: Visagino savivaldybės administracija | BP3: Zarasų rajono savivaldybės administracija
A4: 1 | B4: Akmenės rajono savivaldybės administracija | C4: Akmenės rajono savivaldybės visuomenės sveikatos rėmimo specialioji programa | D4: 19495 | F4: 29 | H4: Dalia Sketrė, el.p.: dalia.sketre@akmene.lt, tel. nr. 867294261. | I4: 19495
A5: 2 | B5: Akmenės rajono savivaldybės administracija | C5: Akmenės rajono savivaldybės kaimo bendruomenių ir visuomeninių organizacijų rėmimo programa | D5: 26835.98 | F5: 26 | H5: Virginija Šemeklienė,el.p.: virginija.semekliene@akmene.lt, tel. nr. 842559776. | I5: 26835.98
A6: 3 | B6: Akmenės rajono savivaldybės administracija | C6: Jaunimo iniciatyvų ir laisvalaikio užimtumo programa | D6: 3000 | F6: 11 | H6: Aušra Astrauskienė, el. p.: ausra.astrauskiene@akmene.lt, tel. nr. 8425 59757. | I6: 3000
A7: 4 | B7: Akmenės rajono savivaldybės administracija | C7: Kultūros, meno ir leidybos programa | D7: 14895 | F7: 13 | H7: Janina Rekašienė, el. p.: janina.rekasiene@akmene.lt, tel. nr. 861688706. | I7: 14895
A8: 5 | B8: Akmenės rajono savivaldybės administracija | C8: Kūno kultūros ir sporto veiklos plėtojimo programa | D8: 65800 | F8: 10 | H8: Zita Stanislauskienė ,el. p.: zita.sanislauskiene@akmene.lt, tel.8 42559762. | I8: 65800
A9: 6 | B9: Akmenės rajono savivaldybės administracija | C9: Neformaliojo suaugusiųjų švietimo ir tęstinio mokymosi programa | D9: 2700 | F9: 1 | H9: Nijolė Lukauskaitė, el. p.: nijole.lukauskaite@akmene.lt, tel. nr. 8 42559760. | I9: 2700
A10: 7 | B10: Akmenės rajono savivaldybės administracija | C10: Socialinės reabilitacijos paslaugų neįgaliesiems bendruomenėje 2021 metų projektų atrankos konkursas | D10: 7347 | F10: 5 | H10: Vida Vaičiūnienė, el. p.: vida.vaiciuniene@akmene.lt, tel. nr. 8 42559734. | I10: 7347
A11: 8 | B11: Akmenės rajono savivaldybės administracija | C11: Socialinių paslaugų teikimo bendruomenėje programa | D11: 11800 | F11: 8 | H11: Sandra Stalerūnienė, el.p. sandra.staleruniene@akmene.lt, tel. nr. 8 42559740. | I11: 11800
A12: 9 | B12: Akmenės rajono savivaldybės administracija | C12: Vaikų socializacijos (vasaros užimtumo) programa | D12: 1170 | F12: 1 | H12: Zita Stanislauskienė, el. p.: zita.sanislauskiene@akmene.lt, tel. nr. 842559762. | I12: 1170
A13: 10 | B13: Alytaus miesto savivaldybė. Asociacija Alytaus miesto vietos veiklos grupė | C13: Alytaus miesto savivaldybės administracijos direktoriaus 2021 m. balandžio 27 d. Nr. DV-463 „Dėl Alytaus miesto 2019-2022 metų vietos plėtros strategijos projektų dalinio finansavimo iš savivaldybės biudžeto lėšų tvarkos aprašo patvirtinimo“. | D13: 5100 | F13: 4 | G13: 10 | H13: Alytaus VVG administracijos direktorė Loreta Trainavičienė, tel. 8 687 51396, el. paštas alytausvvg@gmail.com | J13: 5100
A14: 11 | B14: Alytaus miesto savivaldybės administracija | C14: Socialinės reabilitacijos paslaugų neįgaliesiems bendruomenėje 2021 m. projektų atrankos konkursas. Projektams finansavimas skirtas vadovaujantis Socialinės reabilitacijos paslaugų neįgaliesiems bendruomenėje 2021 metų projektų atrankos konkurso organizavimo nuostatais, patvirtintais Lietuvos Respublikos socialinės apsaugos ir darbo ministro 2020 m. rugsėjo 30 d. įsakymu Nr. A1-906 „Dėl Socialinės reabilitacijos paslaugų neįgaliesiems bendruomenėje 2021 metų projektų atrankos konkurso organizavimo nuostatų patvirtinimo”. | D14: 17100 | F14: 9 | H14: Edita Narkunienė, el. p.: edita.narkuniene@alytus.lt; tel. nr. 831556662; Remigija Akuockaitė, el. p.: remigija.akuockaite@alytus.lt, tel. nr. 861030897. | J14: 17100
A15: 12 | B15: Alytaus miesto savivaldybės administracija | C15: Alytaus miesto savivaldybės administracijos direktoriaus 2021 m. balandžio 7 d. Nr. DV-361 "Dėl 2021 m. Socialinės apsaugos programos 23.01.02.01 priemonės lėšų, skirtų užimtumo didinimo programai įgyvendinti, paskirstos tvirtinimo. | D15: 41470 | F15: 5 | H15: Gintarė Lebedžienė, el. p.: gintare.lebedziene@alytus.lt, tel. nr. 831556683 . | J15: 41470
A16: 13 | B16: Alytaus miesto savivaldybės administracija | C16: Alytaus miesto savivaldybės projektinės iniciatyvos „Tau, Alytau“ atrankos ir finansavimo tvarkos aprašas (2019-10-31 T-321). | D16: 89700 | F16: 18 | H16: Neringa Rinkevičiūtė, el. p.: neringa.rinkeviciute@alytus.lt, tel. nr. 861670244. | J16: 89700
A17: 14 | B17: Alytaus miesto savivaldybės administracija | C17: Alytaus miesto savivaldybės jaunimo politikos įgyvendinimo programos iniciatyvos atrankos ir finansavimo konkursas | D17: 7550 | F17: 6 | G17: 8 | H17: Dalia Kavolynienė, el. p.: dalia.kavolyniene@alytus.lt, tel. nr. +37068497043 | J17: 7550
A18: 15 | B18: Alytaus miesto savivaldybės administracija | C18: Alytaus miesto savivaldybės visuomenės sveikatos rėmimo specialioji programa | D18: 18780 | F18: 2 | H18: Savivaldybės gydytojas Povilas Jagelavičius, el. p.: povilas.jagelavicius@alytus.lt, tel. nr. 8 31555145. | J18: 18780
A19: 16 | B19: Alytaus miesto savivaldybės administracija | C19: Alytaus miesto savivaldybės fizinio aktyvumo sporto srities 2021 m. sporto projektų paraiškos ir skirtas finansavimas | D19: 12000 | F19: 3 | H19: Adomas Andrušaitis, adomas.andrusaitis@alytus.lt tel. (8 315) 55 153 | J19: 12000
A20: 17 | B20: Alytaus miesto savivaldybės administracija | C20: Alytaus miesto savivaldybės sporto programos aukšto sportinio meistriškumo srities 2021 m. sporto projektų paraiškos ir skirtas finansavimas | D20: 470000 | F20: 7 | H20: Adomas Andrušaitis, adomas.andrusaitis@alytus.lt tel. (8 315) 55 153 | J20: 470000
A21: 18 | B21: Alytaus miesto savivaldybės administracija | C21: Alytaus miesto savivaldybės fizinio aktyvumo sporto srities 2021 m. sporto projektų paraiškos ir skirtas finansavimas | D21: 78500 | F21: 12 | H21: Adomas Andrušaitis, adomas.andrusaitis@alytus.lt tel. (8 315) 55 153 | J21: 78500
A22: 19 | B22: Alytaus miesto savivaldybės administracija | C22: Alytaus miesto savivaldybės neformaliojo suaugusiųjų švietimo ir tęstinio mokymosi programų finansavimo atrankos konkursas | D22: 1900 | F22: 1 | H22: Vida Daukšienė; vida.dauksiene@alytus.lt; 8 862 57316 | J22: 1900
A23: 20 | B23: Alytaus miesto savivaldybės administracija | C23: Alytaus miesto savivaldybės neformaliojo vaikų švietimo programų atrankos konkursas | D23: 54885 | F23: 6 | H23: Vida Daukšienė; vida.dauksiene@alytus.lt; 8 862 57316 | J23: 54885
A24: 21 | B24: Alytaus rajono savivaldybės administracija | C24: Kaimo jaunimo pilietiškumo ugdymo ir laisvalaikio užimtumo programa "Jaunimo kaimui" | D24: 900 | F24: 4 | H24: Evelina Žukauskienė evelina.zukauskiene@arsa.lt (8 315) 55 547 | K24: 900
A25: 22 | B25: Alytaus rajono savivaldybės administracija | C25: Visuomenės sveikatos rėmimo programa | D25: 3000 | F25: 2 | H25: Dalia Kitavičienė dalia.kitaviciene@arsa.lt (8 315) 55 532 | K25: 3000
A26: 23 | B26: Alytaus rajono savivaldybės administracija | C26: Žemės ūkio ir kaimo bendruomenių projektai | D26: 46587.73 | F26: 17 | H26: Irma Stenionienė irma.stenioniene@arsa.lt (8 315) 55 996 | K26: 46587.73
A27: 24 | B27: Alytaus rajono savivaldybės administracija | C27: Kultūros plėtros projektai | D27: 10730 | F27: 13 | H27: Evelina Žukauskienė evelina.zukauskiene@arsa.lt (8 315) 55 547 | K27: 10730
A28: 25 | B28: Alytaus rajono savivaldybės administracija | C28: Sporto rėmimo projektai | D28: 12800 | F28: 17 | H28: Evelina Žukauskienė evelina.zukauskiene@arsa.lt (8 315) 55 547 | K28: 12800
A29: 26 | B29: Alytaus rajono savivaldybės administracija | C29: Asmens higienos ir priežiūros (dušo, skalbimo) paslaugų bendruomenėje finansavimas | D29: 15347.5 | F29: 12 | H29: Dalia Burlinskienė dalia.burlinskiene@arsa.lt (8 315) 74 479 | K29: 15347.5
A30: 27 | B30: Anykščių rajono savivaldybės administracija | C30: Priemonė 6.1.1.01. ,,Jaunimo užimtumo skatinimas“ | D30: 6000 | F30: 5 | H30: Inga Beresnevičiūtė, el. p. inga.beresneviciute@anyksciai.lt 8 381 58081 | L30: 6000
A31: 28 | B31: Anykščių rajono savivaldybės administracija | C31: Priemonė 6.1.1.22. ,,Atvirųjų jaunimo erdvių veiklos užtikrinimas“ | D31: 5000 | F31: 1 | H31: Inga Beresnevičiūtė, el. p. inga.beresneviciute@anyksciai.lt 8 381 58081 | L31: 5000
A32: 29 | B32: Anykščių rajono savivaldybės administracija | C32: Priemonė 6.1.1.23. ,,Jaunimo savanoriškos veiklos skatinimas“ | D32: 3000 | F32: 1 | H32: Inga Beresnevičiūtė, el. p. inga.beresneviciute@anyksciai.lt 8 381 58081 | L32: 3000
A33: 30 | B33: Anykščių rajono savivaldybės administracija | C33: Priemonė 6.1.1.25. ,,Mobiliojo darbo su jaunimu Anykščių rajono savivaldybės teritorijoje plėtojimas“ | D33: 1600 | F33: 1 | H33: Inga Beresnevičiūtė, el. p. inga.beresneviciute@anyksciai.lt 8 381 58081 | L33: 1600
A34: 31 | B34: Anykščių rajono savivaldybės administracija | C34: Priemonė 1.1.2.07 ,,Leidybinių veiklų įgyvendinimas“ | D34: 2200 | F34: 2 | H34: Inga Eidrigevičienė, el. p. inga.eidrigeviciene@anyksciai.lt mob. 861447164 | L34: 2200
A35: 32 | B35: Anykščių rajono savivaldybės administracija | C35: Priemonė 1.1.4.02 ,,Kultūros projektų įgyvendinimas“ | D35: 5610 | F35: 5 | H35: Inga Eidrigevičienė, el. p. inga.eidrigeviciene@anyksciai.lt mob. 861447164 | L35: 5610
A36: 33 | B36: Anykščių rajono savivaldybės administracija | C36: Priemonė 1.1.1.06 ,,Kūrybinių iniciatyvų plėtra“ | D36: 3600 | F36: 2 | H36: Inga Eidrigevičienė, el. p. inga.eidrigeviciene@anyksciai.lt mob. 861447164 | L36: 3600
A37: 34 | B37: Anykščių rajono savivaldybės administracija | C37: Priemonė 6.1.2.06 „Vaikų užimtumo didinimas“ | D37: 2600 | F37: 3 | H37: Nila Mėlynienė, el. p. nila.melyniene@anyksciai.lt, tel. (8 381) 54 310 | L37: 2600
A38: 35 | B38: Anykščių rajono savivaldybės administracija | C38: Priemonė 6.1.2.28 "Anykščių rajono savivaldybės sporto veiklos vykdymo projektų dalinis finansavimas“ | D38: 15000 | F38: 12 | H38: Nila Mėlynienė, el. p. nila.melyniene@anyksciai.lt, tel. (8 381) 54 310 | L38: 15000
A39: 36 | B39: Anykščių rajono savivaldybės administracija | C39: Priemonė 6.1.3.05 ,,Anykščių rajono savivaldybės stovyklų, prisidedančių prie socialinių emocinių kompetencijų ugdymo, vykdomų mokinių atostogų metu, finansavimas“ | D39: 9100 | F39: 4 | H39: Nila Mėlynienė, el. p. nila.melyniene@anyksciai.lt, tel. (8 381) 54 310 | L39: 9100
A40: 37 | B40: Anykščių rajono savivaldybės administracija | C40: Priemonė 5.1.1.07 ,,Socialinių paslaugų projektų įgyvendinimas“ | D40: 28721 | F40: 7 | H40: Rita Žiukienė el. p. rita.ziukiene@anyksciai.lt tel. (8341) 53035 | L40: 28721
...
